BEGIN:VCALENDAR
VERSION:2.0
PRODID:-//Plone.org//NONSGML plone.app.event//EN
X-WR-TIMEZONE:Brazil/East
BEGIN:VEVENT
SUMMARY:ENSAIO DA PEÇA "SOMOS TÃO JOVENS".
DTSTART;TZID=Brazil/East;VALUE=DATE-TIME:20250924T080000
DTEND;TZID=Brazil/East;VALUE=DATE-TIME:20250924T120000
DTSTAMP;VALUE=DATE-TIME:20260421T111932Z
UID:7da53a25d3724f9e90df812236634639@www.goiania.go.leg.br
CONTACT:VEREADOR FABRICIO ROSA
CREATED;VALUE=DATE-TIME:20250922T103922Z
LAST-MODIFIED;VALUE=DATE-TIME:20250922T104020Z
LOCATION:AUDITÓRIO JAIME CÂMARA
URL:https://www.goiania.go.leg.br/sala-de-imprensa/eventos/ensaio-da-peca-
 somos-tao-jovens-2
END:VEVENT
BEGIN:VTIMEZONE
TZID:Brazil/East
X-LIC-LOCATION:Brazil/East
BEGIN:STANDARD
DTSTART;VALUE=DATE-TIME:20250215T230000
TZNAME:BRT
TZOFFSETFROM:-0200
TZOFFSETTO:-0300
END:STANDARD
END:VTIMEZONE
END:VCALENDAR
