BEGIN:VCALENDAR
VERSION:2.0
PRODID:-//Plone.org//NONSGML plone.app.event//EN
X-WR-TIMEZONE:Brazil/East
BEGIN:VEVENT
SUMMARY:ENCONTRO ESTADUAL DA FEDERAÇÃO BRASIL DA ESPERANÇA.
DTSTART;TZID=Brazil/East;VALUE=DATE-TIME:20240224T140000
DTEND;TZID=Brazil/East;VALUE=DATE-TIME:20240224T180000
DTSTAMP;VALUE=DATE-TIME:20260419T190223Z
UID:bfc9364ac8b74e5685f5b4e96cd3b1af@www.goiania.go.leg.br
CONTACT:VEREADORA KATIA
CREATED;VALUE=DATE-TIME:20240219T211022Z
LAST-MODIFIED;VALUE=DATE-TIME:20240219T211112Z
LOCATION:AUDITÓRIO CARLOS EURICO
URL:https://www.goiania.go.leg.br/sala-de-imprensa/eventos/encontro-estadu
 al-da-federacao-brasil-da-esperanca
END:VEVENT
BEGIN:VTIMEZONE
TZID:Brazil/East
X-LIC-LOCATION:Brazil/East
BEGIN:STANDARD
DTSTART;VALUE=DATE-TIME:20240217T230000
TZNAME:BRT
TZOFFSETFROM:-0200
TZOFFSETTO:-0300
END:STANDARD
END:VTIMEZONE
END:VCALENDAR
