BEGIN:VCALENDAR
VERSION:2.0
PRODID:-//Plone.org//NONSGML plone.app.event//EN
X-WR-TIMEZONE:Brazil/East
BEGIN:VEVENT
SUMMARY:ENCONTRO DOS DELEGADOS DO PARTIDO DOS TRABALHADORES.
DTSTART;TZID=Brazil/East;VALUE=DATE-TIME:20191019T070000
DTEND;TZID=Brazil/East;VALUE=DATE-TIME:20191019T200000
DTSTAMP;VALUE=DATE-TIME:20260421T095559Z
UID:0ec1b67d157b489e950aece7c8a4d57d@www.goiania.go.leg.br
CONTACT:NEUZA MARIA BORGES
CREATED;VALUE=DATE-TIME:20191010T221049Z
LAST-MODIFIED;VALUE=DATE-TIME:20191010T221125Z
LOCATION:AUDITÓRIO JAIME CÂMARA
URL:https://www.goiania.go.leg.br/sala-de-imprensa/eventos/encontro-dos-de
 legados-do-partido-dos-trabalhadores
END:VEVENT
BEGIN:VTIMEZONE
TZID:Brazil/East
X-LIC-LOCATION:Brazil/East
BEGIN:STANDARD
DTSTART;VALUE=DATE-TIME:20190216T230000
TZNAME:BRT
TZOFFSETFROM:-0200
TZOFFSETTO:-0300
END:STANDARD
END:VTIMEZONE
END:VCALENDAR
