BEGIN:VCALENDAR
VERSION:2.0
PRODID:-//Plone.org//NONSGML plone.app.event//EN
X-WR-TIMEZONE:Brazil/East
BEGIN:VEVENT
SUMMARY:ENCONTRO DOS CAPITÃES DOS PORTOS DE GOIÁS.
DTSTART;TZID=Brazil/East;VALUE=DATE-TIME:20250627T080000
DTEND;TZID=Brazil/East;VALUE=DATE-TIME:20250627T130000
DTSTAMP;VALUE=DATE-TIME:20260420T160048Z
UID:daa6b33f13524f0a804d12c865db6c9c@www.goiania.go.leg.br
CONTACT:VEREADOR ROMÁRIO POLICARPO
CREATED;VALUE=DATE-TIME:20250616T114952Z
LAST-MODIFIED;VALUE=DATE-TIME:20250616T115007Z
LOCATION:AUDITÓRIO JAIME CÂMARA
URL:https://www.goiania.go.leg.br/sala-de-imprensa/eventos/encontro-dos-ca
 pitaes-dos-portos-de-goias
END:VEVENT
BEGIN:VTIMEZONE
TZID:Brazil/East
X-LIC-LOCATION:Brazil/East
BEGIN:STANDARD
DTSTART;VALUE=DATE-TIME:20250215T230000
TZNAME:BRT
TZOFFSETFROM:-0200
TZOFFSETTO:-0300
END:STANDARD
END:VTIMEZONE
END:VCALENDAR
