BEGIN:VCALENDAR
VERSION:2.0
PRODID:-//Plone.org//NONSGML plone.app.event//EN
X-WR-TIMEZONE:Brazil/East
BEGIN:VEVENT
SUMMARY:ENCONTRO DO PCDOB.
DTSTART;TZID=Brazil/East;VALUE=DATE-TIME:20180805T080000
DTEND;TZID=Brazil/East;VALUE=DATE-TIME:20180805T180000
DTSTAMP;VALUE=DATE-TIME:20260421T082252Z
UID:0796deae2d204efb8af83a70a7563b2f@www.goiania.go.leg.br
CONTACT:VEREADORA TATIANA LEMOS
CREATED;VALUE=DATE-TIME:20180306T144024Z
LAST-MODIFIED;VALUE=DATE-TIME:20180306T144032Z
LOCATION:AUDITÓRIO JAIME CÂMARA
URL:https://www.goiania.go.leg.br/sala-de-imprensa/eventos/encontro-do-pcd
 ob-1
END:VEVENT
BEGIN:VTIMEZONE
TZID:Brazil/East
X-LIC-LOCATION:Brazil/East
BEGIN:STANDARD
DTSTART;VALUE=DATE-TIME:20180217T230000
TZNAME:BRT
TZOFFSETFROM:-0200
TZOFFSETTO:-0300
END:STANDARD
END:VTIMEZONE
END:VCALENDAR
