BEGIN:VCALENDAR
VERSION:2.0
PRODID:-//Plone.org//NONSGML plone.app.event//EN
X-WR-TIMEZONE:Brazil/East
BEGIN:VEVENT
SUMMARY:CONVENÇÃO ELEITORAL DO PCdoB 
DTSTART;TZID=Brazil/East;VALUE=DATE-TIME:20180804T080000
DTEND;TZID=Brazil/East;VALUE=DATE-TIME:20180804T170000
DTSTAMP;VALUE=DATE-TIME:20260420T184820Z
UID:af12c2780b4e4c2cb8fe8b47c8235162@www.goiania.go.leg.br
CONTACT:VEREADORA TATIANA LEMOS
CREATED;VALUE=DATE-TIME:20180208T130910Z
LAST-MODIFIED;VALUE=DATE-TIME:20180803T151555Z
LOCATION:AUDITÓRIO JAIME CÂMARA
URL:https://www.goiania.go.leg.br/sala-de-imprensa/eventos/encontro-do-pc-
 do-b
END:VEVENT
BEGIN:VTIMEZONE
TZID:Brazil/East
X-LIC-LOCATION:Brazil/East
BEGIN:STANDARD
DTSTART;VALUE=DATE-TIME:20180217T230000
TZNAME:BRT
TZOFFSETFROM:-0200
TZOFFSETTO:-0300
END:STANDARD
END:VTIMEZONE
END:VCALENDAR
