BEGIN:VCALENDAR
VERSION:2.0
PRODID:-//Plone.org//NONSGML plone.app.event//EN
X-WR-TIMEZONE:Brazil/East
BEGIN:VEVENT
SUMMARY:ENCONTRO DA PNAB - POLÍTICA NACIONAL DE ATENÇÃO BÁSICA.
DTSTART;TZID=Brazil/East;VALUE=DATE-TIME:20180223T080000
DTEND;TZID=Brazil/East;VALUE=DATE-TIME:20180223T180000
DTSTAMP;VALUE=DATE-TIME:20260421T072705Z
UID:9dbae2f48df14f2ca4ee91e11ba09a32@www.goiania.go.leg.br
CONTACT:VEREADOR VINICIUS CIRQUEIRA
CREATED;VALUE=DATE-TIME:20180129T095644Z
LAST-MODIFIED;VALUE=DATE-TIME:20180129T095652Z
LOCATION:AUDITÓRIO CARLOS EURICO
URL:https://www.goiania.go.leg.br/sala-de-imprensa/eventos/encontro-da-pna
 b-politica-nacional-de-atencao-basica
END:VEVENT
BEGIN:VTIMEZONE
TZID:Brazil/East
X-LIC-LOCATION:Brazil/East
BEGIN:STANDARD
DTSTART;VALUE=DATE-TIME:20180217T230000
TZNAME:BRT
TZOFFSETFROM:-0200
TZOFFSETTO:-0300
END:STANDARD
END:VTIMEZONE
END:VCALENDAR
