BEGIN:VCALENDAR
VERSION:2.0
PRODID:-//Plone.org//NONSGML plone.app.event//EN
X-WR-TIMEZONE:Brazil/East
BEGIN:VEVENT
SUMMARY:PALESTRA PARA OS PAIS DO COLÉGIO PADRÃO.
DTSTART;TZID=Brazil/East;VALUE=DATE-TIME:20191009T190000
DTEND;TZID=Brazil/East;VALUE=DATE-TIME:20191009T220000
DTSTAMP;VALUE=DATE-TIME:20260422T074544Z
UID:a24e754b1ce6480baf1a32ed9889dbbf@www.goiania.go.leg.br
CONTACT:VEREADOR WELINGTON PEIXOTO
CREATED;VALUE=DATE-TIME:20190816T221524Z
LAST-MODIFIED;VALUE=DATE-TIME:20191009T114915Z
LOCATION:AUDITÓRIO CARLOS EURICO
URL:https://www.goiania.go.leg.br/sala-de-imprensa/eventos/encontro-com-os
 -pais-do-colegio-padrao
END:VEVENT
BEGIN:VTIMEZONE
TZID:Brazil/East
X-LIC-LOCATION:Brazil/East
BEGIN:STANDARD
DTSTART;VALUE=DATE-TIME:20190216T230000
TZNAME:BRT
TZOFFSETFROM:-0200
TZOFFSETTO:-0300
END:STANDARD
END:VTIMEZONE
END:VCALENDAR
