BEGIN:VCALENDAR
VERSION:2.0
PRODID:-//Plone.org//NONSGML plone.app.event//EN
X-WR-TIMEZONE:Brazil/East
BEGIN:VEVENT
SUMMARY:EMPREGO E RENDA PARA EMPREENDEDORES E EMPREENDEDORAS.
DTSTART;TZID=Brazil/East;VALUE=DATE-TIME:20240618T080000
DTEND;TZID=Brazil/East;VALUE=DATE-TIME:20240619T170000
DTSTAMP;VALUE=DATE-TIME:20260419T104430Z
UID:55eb51a669f5424bbec2c27771f35326@www.goiania.go.leg.br
CONTACT:JOSÉ EDUARDO DA SILVA
CREATED;VALUE=DATE-TIME:20240606T201532Z
LAST-MODIFIED;VALUE=DATE-TIME:20240606T201547Z
LOCATION:HALL DE ENTRADA DESTA CASA DE LEIS
URL:https://www.goiania.go.leg.br/sala-de-imprensa/eventos/emprego-e-renda
 -para-empreendedores-e-empreendedoras
END:VEVENT
BEGIN:VTIMEZONE
TZID:Brazil/East
X-LIC-LOCATION:Brazil/East
BEGIN:STANDARD
DTSTART;VALUE=DATE-TIME:20240217T230000
TZNAME:BRT
TZOFFSETFROM:-0200
TZOFFSETTO:-0300
END:STANDARD
END:VTIMEZONE
END:VCALENDAR
