BEGIN:VCALENDAR
VERSION:2.0
PRODID:-//Plone.org//NONSGML plone.app.event//EN
X-WR-TIMEZONE:Brazil/East
BEGIN:VEVENT
SUMMARY:ELEIÇÃO DA DIRETORIA DA ASSOCIAÇÃO DA FEIRA DA RUA 44 - ASFER-
 44.
DTSTART;TZID=Brazil/East;VALUE=DATE-TIME:20191202T080000
DTEND;TZID=Brazil/East;VALUE=DATE-TIME:20191202T160000
DTSTAMP;VALUE=DATE-TIME:20260421T055505Z
UID:675009039e2441afa68e22d8a437a265@www.goiania.go.leg.br
CONTACT:VEREADOR PAULO MAGALHÃES
CREATED;VALUE=DATE-TIME:20191008T141403Z
LAST-MODIFIED;VALUE=DATE-TIME:20191008T141411Z
LOCATION:AUDITÓRIO JAIME CÂMARA
URL:https://www.goiania.go.leg.br/sala-de-imprensa/eventos/eleicao-da-dire
 toria-da-associacao-da-feira-da-rua-44-asfer-44
END:VEVENT
BEGIN:VTIMEZONE
TZID:Brazil/East
X-LIC-LOCATION:Brazil/East
BEGIN:DAYLIGHT
DTSTART;VALUE=DATE-TIME:20191020T010000
TZNAME:BRST
TZOFFSETFROM:-0300
TZOFFSETTO:-0200
END:DAYLIGHT
END:VTIMEZONE
END:VCALENDAR
