BEGIN:VCALENDAR
VERSION:2.0
PRODID:-//Plone.org//NONSGML plone.app.event//EN
X-WR-TIMEZONE:Brazil/East
BEGIN:VEVENT
SUMMARY:DIÁLOGO SOBRE MUDANÇAS NO EJA.
DTSTART;TZID=Brazil/East;VALUE=DATE-TIME:20250926T140000
DTEND;TZID=Brazil/East;VALUE=DATE-TIME:20250926T180000
DTSTAMP;VALUE=DATE-TIME:20260421T053831Z
UID:159b7316d1b147b8b078999220f82072@www.goiania.go.leg.br
CONTACT:VEREADOR PROFESSOR EDWARD
CREATED;VALUE=DATE-TIME:20250915T103750Z
LAST-MODIFIED;VALUE=DATE-TIME:20250915T103800Z
LOCATION:SALA DE REUNIÃO DAS COMISSÕES
URL:https://www.goiania.go.leg.br/sala-de-imprensa/eventos/dialogo-sobre-m
 udancas-no-eja
END:VEVENT
BEGIN:VTIMEZONE
TZID:Brazil/East
X-LIC-LOCATION:Brazil/East
BEGIN:STANDARD
DTSTART;VALUE=DATE-TIME:20250215T230000
TZNAME:BRT
TZOFFSETFROM:-0200
TZOFFSETTO:-0300
END:STANDARD
END:VTIMEZONE
END:VCALENDAR
