BEGIN:VCALENDAR
VERSION:2.0
PRODID:-//Plone.org//NONSGML plone.app.event//EN
X-WR-TIMEZONE:Brazil/East
BEGIN:VEVENT
SUMMARY:DIA DA MULHER - SEÇÃO DA CENTRAL DOS TRABALHADORES E TRABALHADOR
 AS DO BRASIL ESTADO DE GOIÁS - CTB-GO.
DTSTART;TZID=Brazil/East;VALUE=DATE-TIME:20180308T190000
DTEND;TZID=Brazil/East;VALUE=DATE-TIME:20180308T220000
DTSTAMP;VALUE=DATE-TIME:20260423T065950Z
UID:4691d8cd847d461e9044f8bfe9083675@www.goiania.go.leg.br
CONTACT:VEREADOR VINICIUS CIRQUEIRA
CREATED;VALUE=DATE-TIME:20180306T144318Z
LAST-MODIFIED;VALUE=DATE-TIME:20180306T144328Z
LOCATION:AUDITÓRIO JAIME CÂMARA
URL:https://www.goiania.go.leg.br/sala-de-imprensa/eventos/dia-da-mulher-s
 ecao-da-central-dos-trabalhadores-e-trabalhadoras-do-brasil-estado-de-goia
 s-ctb-go
END:VEVENT
BEGIN:VTIMEZONE
TZID:Brazil/East
X-LIC-LOCATION:Brazil/East
BEGIN:STANDARD
DTSTART;VALUE=DATE-TIME:20180217T230000
TZNAME:BRT
TZOFFSETFROM:-0200
TZOFFSETTO:-0300
END:STANDARD
END:VTIMEZONE
END:VCALENDAR
