BEGIN:VCALENDAR
VERSION:2.0
PRODID:-//Plone.org//NONSGML plone.app.event//EN
X-WR-TIMEZONE:Brazil/East
BEGIN:VEVENT
SUMMARY:DEBATER COM OS PRESIDENTES DE CLUBES DE GOIÂNIA.
DTSTART;TZID=Brazil/East;VALUE=DATE-TIME:20180918T090000
DTEND;TZID=Brazil/East;VALUE=DATE-TIME:20180918T113000
DTSTAMP;VALUE=DATE-TIME:20260421T060358Z
UID:3d274bef91c44736948d3c8eb679deae@goiania.go.leg.br
CONTACT:VEREADOR PAULO DA FARMÁCIA
CREATED;VALUE=DATE-TIME:20180918T105219Z
LAST-MODIFIED;VALUE=DATE-TIME:20180918T105225Z
LOCATION:SALA DE REUNIÃO DA PRESIDÊNCIA
URL:https://www.goiania.go.leg.br/sala-de-imprensa/eventos/debater-com-os-
 presidentes-de-clubes-de-goiania
END:VEVENT
BEGIN:VTIMEZONE
TZID:Brazil/East
X-LIC-LOCATION:Brazil/East
BEGIN:STANDARD
DTSTART;VALUE=DATE-TIME:20180217T230000
TZNAME:BRT
TZOFFSETFROM:-0200
TZOFFSETTO:-0300
END:STANDARD
END:VTIMEZONE
END:VCALENDAR
