BEGIN:VCALENDAR
VERSION:2.0
PRODID:-//Plone.org//NONSGML plone.app.event//EN
X-WR-TIMEZONE:Brazil/East
BEGIN:VEVENT
SUMMARY:DEBATE SOBRE O DIA MUNDIAL DE COMBATE AO ENCARCERAMENTO DA JUVENTU
 DE NEGRA.
DTSTART;TZID=Brazil/East;VALUE=DATE-TIME:20220620T190000
DTEND;TZID=Brazil/East;VALUE=DATE-TIME:20220620T210000
DTSTAMP;VALUE=DATE-TIME:20260420T131857Z
UID:044244ee0cea44298c3bad882b2d76a2@www.goiania.go.leg.br
CONTACT:VEREADORA AAVA SANTIAGO
CREATED;VALUE=DATE-TIME:20220620T173424Z
LAST-MODIFIED;VALUE=DATE-TIME:20220620T173527Z
LOCATION:AUDITÓRIO CARLOS EURICO
URL:https://www.goiania.go.leg.br/sala-de-imprensa/eventos/debate-sobre-o-
 dia-mundial-de-combate-ao-encarceramento-da-juventude-negra
END:VEVENT
BEGIN:VTIMEZONE
TZID:Brazil/East
X-LIC-LOCATION:Brazil/East
BEGIN:STANDARD
DTSTART;VALUE=DATE-TIME:20220219T230000
TZNAME:BRT
TZOFFSETFROM:-0200
TZOFFSETTO:-0300
END:STANDARD
END:VTIMEZONE
END:VCALENDAR
