BEGIN:VCALENDAR
VERSION:2.0
PRODID:-//Plone.org//NONSGML plone.app.event//EN
X-WR-TIMEZONE:Brazil/East
BEGIN:VEVENT
SUMMARY:DEBATE ONDE SERÁ DISCUTIDO A REALIDADE DA SAÚDE MENTAL NO ESTADO
 .
DTSTART;TZID=Brazil/East;VALUE=DATE-TIME:20190129T080000
DTEND;TZID=Brazil/East;VALUE=DATE-TIME:20190129T120000
DTSTAMP;VALUE=DATE-TIME:20260421T055446Z
UID:bbd48c6accaa4777940abf10ad4c146b@www.goiania.go.leg.br
CONTACT:VEREADORA SABRINA GARCÊZ
CREATED;VALUE=DATE-TIME:20190124T103632Z
LAST-MODIFIED;VALUE=DATE-TIME:20190124T103638Z
LOCATION:SALA DE REUNIÃO DA PRESIDÊNCIA
URL:https://www.goiania.go.leg.br/sala-de-imprensa/eventos/debate-onde-ser
 a-discutido-a-realidade-da-saude-mental-no-estado
END:VEVENT
BEGIN:VTIMEZONE
TZID:Brazil/East
X-LIC-LOCATION:Brazil/East
BEGIN:DAYLIGHT
DTSTART;VALUE=DATE-TIME:20181021T010000
TZNAME:BRST
TZOFFSETFROM:-0300
TZOFFSETTO:-0200
END:DAYLIGHT
END:VTIMEZONE
END:VCALENDAR
