BEGIN:VCALENDAR
VERSION:2.0
PRODID:-//Plone.org//NONSGML plone.app.event//EN
X-WR-TIMEZONE:Brazil/East
BEGIN:VEVENT
SUMMARY:Debate da Atual Conjuntura Cultural de Goiânia
DTSTART;TZID=Brazil/East;VALUE=DATE-TIME:20170312T080000
DTEND;TZID=Brazil/East;VALUE=DATE-TIME:20170312T120000
DTSTAMP;VALUE=DATE-TIME:20260421T042832Z
UID:0fe9e37be19a4f3499c9e8a2a28fcc69@www.goiania.go.leg.br
CONTACT:Ver. Kleibe Morais
CREATED;VALUE=DATE-TIME:20171208T111312Z
LAST-MODIFIED;VALUE=DATE-TIME:20171208T112928Z
LOCATION:Auditório Carlos Eurico
URL:https://www.goiania.go.leg.br/sala-de-imprensa/eventos/debate-da-atual
 -conjuntura-cultural-de-goiania-1
END:VEVENT
BEGIN:VTIMEZONE
TZID:Brazil/East
X-LIC-LOCATION:Brazil/East
BEGIN:STANDARD
DTSTART;VALUE=DATE-TIME:20170218T230000
TZNAME:BRT
TZOFFSETFROM:-0200
TZOFFSETTO:-0300
END:STANDARD
END:VTIMEZONE
END:VCALENDAR
