BEGIN:VCALENDAR
VERSION:2.0
PRODID:-//Plone.org//NONSGML plone.app.event//EN
X-WR-TIMEZONE:Brazil/East
BEGIN:VEVENT
SUMMARY:CURSOS QUE  A UVEGO IRÁ DISPONIBILIZAR PARA VEREADORES E ASSESSOR
 ES DE TODO ESTADO DE GOIÁS E ORATÓRIA A ARTE DE FALAR EM PÚBLICO.
DTSTART;TZID=Brazil/East;VALUE=DATE-TIME:20190426T080000
DTEND;TZID=Brazil/East;VALUE=DATE-TIME:20190426T160000
DTSTAMP;VALUE=DATE-TIME:20260421T043006Z
UID:31417c9a07d8469e9e115129535a8c85@www.goiania.go.leg.br
CONTACT:RICARDO DE OLIVEIRA CARNEIRO
CREATED;VALUE=DATE-TIME:20190424T223021Z
LAST-MODIFIED;VALUE=DATE-TIME:20190424T223031Z
LOCATION:AUDITÓRIO JAIME CÂMARA
URL:https://www.goiania.go.leg.br/sala-de-imprensa/eventos/cursos-que-a-uv
 ego-ira-disponibilizar-para-vereadores-e-assessores-de-todo-estado-de-goia
 s-e-oratoria-a-arte-de-falar-em-publico
END:VEVENT
BEGIN:VTIMEZONE
TZID:Brazil/East
X-LIC-LOCATION:Brazil/East
BEGIN:STANDARD
DTSTART;VALUE=DATE-TIME:20190216T230000
TZNAME:BRT
TZOFFSETFROM:-0200
TZOFFSETTO:-0300
END:STANDARD
END:VTIMEZONE
END:VCALENDAR
