BEGIN:VCALENDAR
VERSION:2.0
PRODID:-//Plone.org//NONSGML plone.app.event//EN
X-WR-TIMEZONE:Brazil/East
BEGIN:VEVENT
SUMMARY:CURSOS E EVENTOS PARA OS SERVIDORES  E OS JURISDICIONADOS DO TRIBU
 NAL DE CONTAS DOS MUNICÍPIOS DO ESTADO DE GOIÁS.
DTSTART;TZID=Brazil/East;VALUE=DATE-TIME:20170705T080000
DTEND;TZID=Brazil/East;VALUE=DATE-TIME:20170705T170000
DTSTAMP;VALUE=DATE-TIME:20260421T043002Z
UID:1abc15dc02b740ff930f6ae274e6ed96@www.goiania.go.leg.br
CONTACT:VEREADOR ANDREY AZEREDO
CREATED;VALUE=DATE-TIME:20171208T111313Z
LAST-MODIFIED;VALUE=DATE-TIME:20171208T112936Z
LOCATION:AUDITÓRIO JAIME CÂMARA
URL:https://www.goiania.go.leg.br/sala-de-imprensa/eventos/cursos-e-evento
 s-para-os-servidores-e-os-jurisdicionados-do-tribunal-de-contas-dos-munici
 pios-do-estado-de-goias
END:VEVENT
BEGIN:VTIMEZONE
TZID:Brazil/East
X-LIC-LOCATION:Brazil/East
BEGIN:STANDARD
DTSTART;VALUE=DATE-TIME:20170218T230000
TZNAME:BRT
TZOFFSETFROM:-0200
TZOFFSETTO:-0300
END:STANDARD
END:VTIMEZONE
END:VCALENDAR
