BEGIN:VCALENDAR
VERSION:2.0
PRODID:-//Plone.org//NONSGML plone.app.event//EN
X-WR-TIMEZONE:Brazil/East
BEGIN:VEVENT
SUMMARY:CURSOS DO ENSINO PROFISSIONAL MARÍTIMO (EPM).
DTSTART;TZID=Brazil/East;VALUE=DATE-TIME:20251015T080000
DTEND;TZID=Brazil/East;VALUE=DATE-TIME:20251015T130000
DTSTAMP;VALUE=DATE-TIME:20260421T042538Z
UID:549eea2dc5964e07a51a4b81f3c08c44@www.goiania.go.leg.br
CONTACT:VEREADOR ROMÁRIO POLICARPO
CREATED;VALUE=DATE-TIME:20250923T114730Z
LAST-MODIFIED;VALUE=DATE-TIME:20250923T114803Z
LOCATION:AUDITÓRIO JAIME CÂMARA
URL:https://www.goiania.go.leg.br/sala-de-imprensa/eventos/cursos-do-ensin
 o-profissional-maritimo-epm
END:VEVENT
BEGIN:VTIMEZONE
TZID:Brazil/East
X-LIC-LOCATION:Brazil/East
BEGIN:STANDARD
DTSTART;VALUE=DATE-TIME:20250215T230000
TZNAME:BRT
TZOFFSETFROM:-0200
TZOFFSETTO:-0300
END:STANDARD
END:VTIMEZONE
END:VCALENDAR
