BEGIN:VCALENDAR
VERSION:2.0
PRODID:-//Plone.org//NONSGML plone.app.event//EN
X-WR-TIMEZONE:Brazil/East
BEGIN:VEVENT
SUMMARY:CURSO TÉCNICO DA FGTKD - TAEKWONDO - NÍVEL BRASIL.
DTSTART;TZID=Brazil/East;VALUE=DATE-TIME:20180714T080000
DTEND;TZID=Brazil/East;VALUE=DATE-TIME:20180714T120000
DTSTAMP;VALUE=DATE-TIME:20260421T042838Z
UID:14c1b2bad4ae4c238f84487d36367803@www.goiania.go.leg.br
CONTACT:VEREADOR VINICIUS CIRQUEIRA
CREATED;VALUE=DATE-TIME:20180613T131801Z
LAST-MODIFIED;VALUE=DATE-TIME:20180613T131815Z
LOCATION:SALA DE REUNIÃO DAS COMISSÕES
URL:https://www.goiania.go.leg.br/sala-de-imprensa/eventos/curso-tecnico-d
 a-fgtkd-taekwondo-nivel-brasil-3
END:VEVENT
BEGIN:VTIMEZONE
TZID:Brazil/East
X-LIC-LOCATION:Brazil/East
BEGIN:STANDARD
DTSTART;VALUE=DATE-TIME:20180217T230000
TZNAME:BRT
TZOFFSETFROM:-0200
TZOFFSETTO:-0300
END:STANDARD
END:VTIMEZONE
END:VCALENDAR
