BEGIN:VCALENDAR
VERSION:2.0
PRODID:-//Plone.org//NONSGML plone.app.event//EN
X-WR-TIMEZONE:Brazil/East
BEGIN:VEVENT
SUMMARY:CURSO SOBRE A NOVA LEI DE LICITAÇÕES E CONTRATOS ADMINISTRATIVOS
 .
DTSTART;TZID=Brazil/East;VALUE=DATE-TIME:20231113T080000
DTEND;TZID=Brazil/East;VALUE=DATE-TIME:20231114T120000
DTSTAMP;VALUE=DATE-TIME:20260419T120545Z
UID:b54388a6459348d8a6565153bc8fac88@www.goiania.go.leg.br
CONTACT:HERBET DE VASCONCELOS BARROS
CREATED;VALUE=DATE-TIME:20231106T134020Z
LAST-MODIFIED;VALUE=DATE-TIME:20231106T134034Z
LOCATION:AUDITÓRIO CARLOS EURICO
URL:https://www.goiania.go.leg.br/sala-de-imprensa/eventos/curso-sobre-a-n
 ova-lei-de-licitacoes-e-contratos-administrativos
END:VEVENT
BEGIN:VTIMEZONE
TZID:Brazil/East
X-LIC-LOCATION:Brazil/East
BEGIN:DAYLIGHT
DTSTART;VALUE=DATE-TIME:20231015T010000
TZNAME:BRST
TZOFFSETFROM:-0300
TZOFFSETTO:-0200
END:DAYLIGHT
END:VTIMEZONE
END:VCALENDAR
