BEGIN:VCALENDAR
VERSION:2.0
PRODID:-//Plone.org//NONSGML plone.app.event//EN
X-WR-TIMEZONE:Brazil/East
BEGIN:VEVENT
SUMMARY:CURSO PROCEDIMENTOS ADMINISTRATIVOS E PEDAGÓGICOS PARA O FUNCIONA
 MENTO DAS SALAS DE LEITURA NA REDE MUNICIPAL DE EDUCAÇÃO DE GOIÂNIA.
DTSTART;TZID=Brazil/East;VALUE=DATE-TIME:20181019T073000
DTEND;TZID=Brazil/East;VALUE=DATE-TIME:20181019T180000
DTSTAMP;VALUE=DATE-TIME:20260421T043002Z
UID:1ad7d924ae52432fa39f2518134a5ef9@www.goiania.go.leg.br
CONTACT:PROFESSOR MARCELO F. DA COSTA
CREATED;VALUE=DATE-TIME:20181009T124052Z
LAST-MODIFIED;VALUE=DATE-TIME:20181009T124111Z
LOCATION:AUDITÓRIO JAIME CÂMARA
URL:https://www.goiania.go.leg.br/sala-de-imprensa/eventos/curso-procedime
 ntos-administrativos-e-pedagogicos-para-o-funcionamento-das-salas-de-leitu
 ra-na-rede-municipal-de-educacao-de-goiania
END:VEVENT
BEGIN:VTIMEZONE
TZID:Brazil/East
X-LIC-LOCATION:Brazil/East
BEGIN:STANDARD
DTSTART;VALUE=DATE-TIME:20180217T230000
TZNAME:BRT
TZOFFSETFROM:-0200
TZOFFSETTO:-0300
END:STANDARD
END:VTIMEZONE
END:VCALENDAR
