BEGIN:VCALENDAR
VERSION:2.0
PRODID:-//Plone.org//NONSGML plone.app.event//EN
X-WR-TIMEZONE:Brazil/East
BEGIN:VEVENT
SUMMARY:CURSO PARA MESÁRIOS DO TRIBUNAL REGIONAL ELEITORAL - TRE.
DTSTART;TZID=Brazil/East;VALUE=DATE-TIME:20180922T080000
DTEND;TZID=Brazil/East;VALUE=DATE-TIME:20180922T180000
DTSTAMP;VALUE=DATE-TIME:20260421T042727Z
UID:e7c67951efb140aa8c2be5e404d0f727@goiania.go.leg.br
CONTACT:FERNANDO
CREATED;VALUE=DATE-TIME:20180921T154437Z
LAST-MODIFIED;VALUE=DATE-TIME:20180921T154448Z
LOCATION:AUDITÓRIO JAIME CÂMARA
URL:https://www.goiania.go.leg.br/sala-de-imprensa/eventos/curso-para-mesa
 rios-do-tribunal-regional-eleitoral-tre
END:VEVENT
BEGIN:VTIMEZONE
TZID:Brazil/East
X-LIC-LOCATION:Brazil/East
BEGIN:STANDARD
DTSTART;VALUE=DATE-TIME:20180217T230000
TZNAME:BRT
TZOFFSETFROM:-0200
TZOFFSETTO:-0300
END:STANDARD
END:VTIMEZONE
END:VCALENDAR
