BEGIN:VCALENDAR
VERSION:2.0
PRODID:-//Plone.org//NONSGML plone.app.event//EN
X-WR-TIMEZONE:Brazil/East
BEGIN:VEVENT
SUMMARY:CURSO EM EAD SOCIAL DO PROJETO CONHECER PARA ACOLHER.
DTSTART;TZID=Brazil/East;VALUE=DATE-TIME:20190626T130000
DTEND;TZID=Brazil/East;VALUE=DATE-TIME:20190626T180000
DTSTAMP;VALUE=DATE-TIME:20260421T042726Z
UID:ff5db421769048eba26bc18f4be3f6a7@www.goiania.go.leg.br
CONTACT:RICARDO DE OLIVEIRA CARNEIRO
CREATED;VALUE=DATE-TIME:20190606T230935Z
LAST-MODIFIED;VALUE=DATE-TIME:20190606T230941Z
LOCATION:AUDITÓRIO JAIME CÂMARA
URL:https://www.goiania.go.leg.br/sala-de-imprensa/eventos/curso-em-ead-so
 cial-do-projeto-conhecer-para-acolher
END:VEVENT
BEGIN:VTIMEZONE
TZID:Brazil/East
X-LIC-LOCATION:Brazil/East
BEGIN:STANDARD
DTSTART;VALUE=DATE-TIME:20190216T230000
TZNAME:BRT
TZOFFSETFROM:-0200
TZOFFSETTO:-0300
END:STANDARD
END:VTIMEZONE
END:VCALENDAR
