BEGIN:VCALENDAR
VERSION:2.0
PRODID:-//Plone.org//NONSGML plone.app.event//EN
X-WR-TIMEZONE:Brazil/East
BEGIN:VEVENT
SUMMARY:CURSO ELO SOCIAL.
DTSTART;TZID=Brazil/East;VALUE=DATE-TIME:20190518T090000
DTEND;TZID=Brazil/East;VALUE=DATE-TIME:20190518T170000
DTSTAMP;VALUE=DATE-TIME:20260421T042425Z
UID:321dbc13cf8e4a65a4396cfbe92bbe4d@www.goiania.go.leg.br
CONTACT:DANILO GUEDES PEREIRA
CREATED;VALUE=DATE-TIME:20190517T102512Z
LAST-MODIFIED;VALUE=DATE-TIME:20190517T102547Z
LOCATION:AUDITÓRIO CARLOS EURICO
URL:https://www.goiania.go.leg.br/sala-de-imprensa/eventos/curso-elo-socia
 l
END:VEVENT
BEGIN:VTIMEZONE
TZID:Brazil/East
X-LIC-LOCATION:Brazil/East
BEGIN:STANDARD
DTSTART;VALUE=DATE-TIME:20190216T230000
TZNAME:BRT
TZOFFSETFROM:-0200
TZOFFSETTO:-0300
END:STANDARD
END:VTIMEZONE
END:VCALENDAR
