BEGIN:VCALENDAR
VERSION:2.0
PRODID:-//Plone.org//NONSGML plone.app.event//EN
X-WR-TIMEZONE:Brazil/East
BEGIN:VEVENT
SUMMARY:CURSO DE TREINAMENTO E CAPACITAÇÃO PARA AS EQUIPES SOBRE POSSÍV
 EIS CATÁSTROFES E DESASTRES NATURAIS NO MUNICÍPIO DE GOIÂNIA.
DTSTART;TZID=Brazil/East;VALUE=DATE-TIME:20251203T080000
DTEND;TZID=Brazil/East;VALUE=DATE-TIME:20251203T120000
DTSTAMP;VALUE=DATE-TIME:20260423T070108Z
UID:5f8e5067ca8c4424ab7d2fd1451ba573@www.goiania.go.leg.br
CONTACT:VEREADOR PEDRO AZULÃO JR.
CREATED;VALUE=DATE-TIME:20251126T213854Z
LAST-MODIFIED;VALUE=DATE-TIME:20251126T213944Z
LOCATION:AUDITÓRIO JAIME CÂMARA
URL:https://www.goiania.go.leg.br/sala-de-imprensa/eventos/curso-de-treina
 mento-e-capacitacao-para-as-equipes-sobre-possiveis-catastrofes-e-desastre
 s-naturais-no-municipio-de-goiania
END:VEVENT
BEGIN:VTIMEZONE
TZID:Brazil/East
X-LIC-LOCATION:Brazil/East
BEGIN:DAYLIGHT
DTSTART;VALUE=DATE-TIME:20251019T010000
TZNAME:BRST
TZOFFSETFROM:-0300
TZOFFSETTO:-0200
END:DAYLIGHT
END:VTIMEZONE
END:VCALENDAR
