BEGIN:VCALENDAR
VERSION:2.0
PRODID:-//Plone.org//NONSGML plone.app.event//EN
X-WR-TIMEZONE:Brazil/East
BEGIN:VEVENT
SUMMARY:CURSO DE PRIMEIROS SOCORROS EM PARCERIA COM O CORPO DE BOMBEIRO MI
 LITAR.
DTSTART;TZID=Brazil/East;VALUE=DATE-TIME:20171106T080000
DTEND;TZID=Brazil/East;VALUE=DATE-TIME:20171106T180000
DTSTAMP;VALUE=DATE-TIME:20260423T065950Z
UID:986f026cf57547bf8022f35c0ccd5a95@www.goiania.go.leg.br
CONTACT:ADERILTON BEZERRA DOS SANTOS
CREATED;VALUE=DATE-TIME:20171208T111313Z
LAST-MODIFIED;VALUE=DATE-TIME:20171208T112943Z
LOCATION:SALA DE REUNIÃO DA PRESIDÊNCIA
URL:https://www.goiania.go.leg.br/sala-de-imprensa/eventos/curso-de-primei
 ros-socorros-em-parceria-com-o-corpo-de-bombeiro-militar
END:VEVENT
BEGIN:VTIMEZONE
TZID:Brazil/East
X-LIC-LOCATION:Brazil/East
BEGIN:DAYLIGHT
DTSTART;VALUE=DATE-TIME:20171015T010000
TZNAME:BRST
TZOFFSETFROM:-0300
TZOFFSETTO:-0200
END:DAYLIGHT
END:VTIMEZONE
END:VCALENDAR
