BEGIN:VCALENDAR
VERSION:2.0
PRODID:-//Plone.org//NONSGML plone.app.event//EN
X-WR-TIMEZONE:Brazil/East
BEGIN:VEVENT
SUMMARY:CURSO DE PRIMEIROS SOCORROS 
DTSTART;TZID=Brazil/East;VALUE=DATE-TIME:20190930T080000
DTEND;TZID=Brazil/East;VALUE=DATE-TIME:20190930T180000
DTSTAMP;VALUE=DATE-TIME:20260421T012957Z
UID:9dcc2b0f573a4ddfad5ab1749517591f@www.goiania.go.leg.br
CONTACT:SERVIÇO ESPECIALIZADO EM ENGENHARIA DE SEGURANÇA E MEDICINA DO T
 RABALHO 
CREATED;VALUE=DATE-TIME:20190710T115917Z
LAST-MODIFIED;VALUE=DATE-TIME:20190710T115926Z
LOCATION:SALA DE REUNIÃO DA PRESIDÊNCIA 
URL:https://www.goiania.go.leg.br/sala-de-imprensa/eventos/curso-de-primei
 ros-socorros-3
END:VEVENT
BEGIN:VTIMEZONE
TZID:Brazil/East
X-LIC-LOCATION:Brazil/East
BEGIN:STANDARD
DTSTART;VALUE=DATE-TIME:20190216T230000
TZNAME:BRT
TZOFFSETFROM:-0200
TZOFFSETTO:-0300
END:STANDARD
END:VTIMEZONE
END:VCALENDAR
