BEGIN:VCALENDAR
VERSION:2.0
PRODID:-//Plone.org//NONSGML plone.app.event//EN
X-WR-TIMEZONE:Brazil/East
BEGIN:VEVENT
SUMMARY:CURSO DE MEDIAÇÃO DE CONFLITOS.
DTSTART;TZID=Brazil/East;VALUE=DATE-TIME:20180921T080000
DTEND;TZID=Brazil/East;VALUE=DATE-TIME:20180921T180000
DTSTAMP;VALUE=DATE-TIME:20260421T012832Z
UID:56ce096c25ef41d1922b269f734298d1@www.goiania.go.leg.br
CONTACT:VEREADOR ROGÉRIO CRUZ
CREATED;VALUE=DATE-TIME:20180828T134414Z
LAST-MODIFIED;VALUE=DATE-TIME:20180828T134459Z
LOCATION:AUDITÓRIO JAIME CÂMARA
URL:https://www.goiania.go.leg.br/sala-de-imprensa/eventos/curso-de-mediac
 ao-de-conflitos
END:VEVENT
BEGIN:VTIMEZONE
TZID:Brazil/East
X-LIC-LOCATION:Brazil/East
BEGIN:STANDARD
DTSTART;VALUE=DATE-TIME:20180217T230000
TZNAME:BRT
TZOFFSETFROM:-0200
TZOFFSETTO:-0300
END:STANDARD
END:VTIMEZONE
END:VCALENDAR
