BEGIN:VCALENDAR
VERSION:2.0
PRODID:-//Plone.org//NONSGML plone.app.event//EN
X-WR-TIMEZONE:Brazil/East
BEGIN:VEVENT
SUMMARY:CURSO DE GESTÃO E LIDERANÇA DA GUARDA CIVIL METROPOLITANA DE GOI
 ÂNIA.
DTSTART;TZID=Brazil/East;VALUE=DATE-TIME:20191114T130000
DTEND;TZID=Brazil/East;VALUE=DATE-TIME:20191114T180000
DTSTAMP;VALUE=DATE-TIME:20260421T013406Z
UID:013d7833705f4b0293d794850cc29e19@www.goiania.go.leg.br
CONTACT:LEONARDO CAMILO DE ALMEIDA
CREATED;VALUE=DATE-TIME:20191111T220509Z
LAST-MODIFIED;VALUE=DATE-TIME:20191111T220521Z
LOCATION:SALA DE REUNIÃO DAS COMISSÕES
URL:https://www.goiania.go.leg.br/sala-de-imprensa/eventos/curso-de-gestao
 -e-lideranca-da-guarda-civil-metropolitana-de-goiania
END:VEVENT
BEGIN:VTIMEZONE
TZID:Brazil/East
X-LIC-LOCATION:Brazil/East
BEGIN:DAYLIGHT
DTSTART;VALUE=DATE-TIME:20191020T010000
TZNAME:BRST
TZOFFSETFROM:-0300
TZOFFSETTO:-0200
END:DAYLIGHT
END:VTIMEZONE
END:VCALENDAR
