BEGIN:VCALENDAR
VERSION:2.0
PRODID:-//Plone.org//NONSGML plone.app.event//EN
X-WR-TIMEZONE:Brazil/East
BEGIN:VEVENT
SUMMARY:CURSO DE GESTÃO APLICADA NO FUTEBOL. - INSTITUTO GOIANO DE DIREIT
 O DESPORTIVO
DTSTART;TZID=Brazil/East;VALUE=DATE-TIME:20170922T073000
DTEND;TZID=Brazil/East;VALUE=DATE-TIME:20170922T173000
DTSTAMP;VALUE=DATE-TIME:20260421T013243Z
UID:52387efce39749a899acc8fe5e4555d9@www.goiania.go.leg.br
CONTACT:VEREADOR VINICIUS CIRQUEIRA
CREATED;VALUE=DATE-TIME:20171208T111313Z
LAST-MODIFIED;VALUE=DATE-TIME:20171208T112941Z
LOCATION:SALA DE REUNIÃO DAS COMISSÕES
URL:https://www.goiania.go.leg.br/sala-de-imprensa/eventos/curso-de-gestao
 -aplicada-no-futebol-instituto-goiano-de-direito-desportivo
END:VEVENT
BEGIN:VTIMEZONE
TZID:Brazil/East
X-LIC-LOCATION:Brazil/East
BEGIN:STANDARD
DTSTART;VALUE=DATE-TIME:20170218T230000
TZNAME:BRT
TZOFFSETFROM:-0200
TZOFFSETTO:-0300
END:STANDARD
END:VTIMEZONE
END:VCALENDAR
