BEGIN:VCALENDAR
VERSION:2.0
PRODID:-//Plone.org//NONSGML plone.app.event//EN
X-WR-TIMEZONE:Brazil/East
BEGIN:VEVENT
SUMMARY:CURSO DE GESTÃO APLICADA NO FUTEBOL. - INSTITUTO GOIANO DE DIREIT
 O DESPORTIVO
DTSTART;TZID=Brazil/East;VALUE=DATE-TIME:20171209T073000
DTEND;TZID=Brazil/East;VALUE=DATE-TIME:20171209T173000
DTSTAMP;VALUE=DATE-TIME:20260421T013614Z
UID:ad0fc357d0284dfba1276f3ae32597ac@www.goiania.go.leg.br
CONTACT:VEREADOR VINICIUS CIRQUEIRA
CREATED;VALUE=DATE-TIME:20171208T111313Z
LAST-MODIFIED;VALUE=DATE-TIME:20171208T112942Z
LOCATION:SALA DE REUNIÃO DAS COMISSÕES
URL:https://www.goiania.go.leg.br/sala-de-imprensa/eventos/curso-de-gestao
 -aplicada-no-futebol-instituto-goiano-de-direito-desportivo-9
END:VEVENT
BEGIN:VTIMEZONE
TZID:Brazil/East
X-LIC-LOCATION:Brazil/East
BEGIN:DAYLIGHT
DTSTART;VALUE=DATE-TIME:20171015T010000
TZNAME:BRST
TZOFFSETFROM:-0300
TZOFFSETTO:-0200
END:DAYLIGHT
END:VTIMEZONE
END:VCALENDAR
