BEGIN:VCALENDAR
VERSION:2.0
PRODID:-//Plone.org//NONSGML plone.app.event//EN
X-WR-TIMEZONE:Brazil/East
BEGIN:VEVENT
SUMMARY:CURSO DE FORMAÇÃO EM CONTROLE INTERNO E CAPACITAÇÃO EM COMPRAS
  PÚBLICAS.
DTSTART;TZID=Brazil/East;VALUE=DATE-TIME:20191213T070000
DTEND;TZID=Brazil/East;VALUE=DATE-TIME:20191213T180000
DTSTAMP;VALUE=DATE-TIME:20260421T013004Z
UID:3376f8bd6ef244279f00475b38d711ee@www.goiania.go.leg.br
CONTACT:CONS. JOAQUIM ALVES DE CASTRO NETO
CREATED;VALUE=DATE-TIME:20191129T221638Z
LAST-MODIFIED;VALUE=DATE-TIME:20191129T221651Z
LOCATION:AUDITÓRIO JAIME CÂMARA
URL:https://www.goiania.go.leg.br/sala-de-imprensa/eventos/curso-de-formac
 ao-em-controle-interno-e-capacitacao-em-compras-publicas
END:VEVENT
BEGIN:VTIMEZONE
TZID:Brazil/East
X-LIC-LOCATION:Brazil/East
BEGIN:DAYLIGHT
DTSTART;VALUE=DATE-TIME:20191020T010000
TZNAME:BRST
TZOFFSETFROM:-0300
TZOFFSETTO:-0200
END:DAYLIGHT
END:VTIMEZONE
END:VCALENDAR
