BEGIN:VCALENDAR
VERSION:2.0
PRODID:-//Plone.org//NONSGML plone.app.event//EN
X-WR-TIMEZONE:Brazil/East
BEGIN:VEVENT
SUMMARY:CURSO DE CAPACITAÇÃO SUAS DE PONTA A PONTA QUE TRARÁ REFLEXÕES
  SOBRE O TRABALHO DO ASSISTENTE SOCIAL NA REFERIDA POLÍTICA PÚBLICA.
DTSTART;TZID=Brazil/East;VALUE=DATE-TIME:20190711T130000
DTEND;TZID=Brazil/East;VALUE=DATE-TIME:20190711T180000
DTSTAMP;VALUE=DATE-TIME:20260421T001653Z
UID:825f08d7276444249a3f486a478ab10a@www.goiania.go.leg.br
CONTACT:ANA ÂNGELA TORRES BRASIL
CREATED;VALUE=DATE-TIME:20190624T144648Z
LAST-MODIFIED;VALUE=DATE-TIME:20190624T144657Z
LOCATION:AUDITÓRIO CARLOS EURICO
URL:https://www.goiania.go.leg.br/sala-de-imprensa/eventos/curso-de-capaci
 tacao-suas-de-ponta-a-ponta-que-trara-reflexoes-sobre-o-trabalho-do-assist
 ente-social-na-referida-politica-publica
END:VEVENT
BEGIN:VTIMEZONE
TZID:Brazil/East
X-LIC-LOCATION:Brazil/East
BEGIN:STANDARD
DTSTART;VALUE=DATE-TIME:20190216T230000
TZNAME:BRT
TZOFFSETFROM:-0200
TZOFFSETTO:-0300
END:STANDARD
END:VTIMEZONE
END:VCALENDAR
