BEGIN:VCALENDAR
VERSION:2.0
PRODID:-//Plone.org//NONSGML plone.app.event//EN
X-WR-TIMEZONE:Brazil/East
BEGIN:VEVENT
SUMMARY:CURSO DE CAPACITAÇÃO DE SERVIDORES.
DTSTART;TZID=Brazil/East;VALUE=DATE-TIME:20161107T080000
DTEND;TZID=Brazil/East;VALUE=DATE-TIME:20161107T180000
DTSTAMP;VALUE=DATE-TIME:20260421T000911Z
UID:75cb778848a0437fa41422e3654801b9@www.goiania.go.leg.br
CONTACT:ADERILTON BEZERRA DOS SANTOS
CREATED;VALUE=DATE-TIME:20171208T111312Z
LAST-MODIFIED;VALUE=DATE-TIME:20171208T112924Z
LOCATION:SALA DAS COMISSÕES
URL:https://www.goiania.go.leg.br/sala-de-imprensa/eventos/curso-de-capaci
 tacao-de-servidores
END:VEVENT
BEGIN:VTIMEZONE
TZID:Brazil/East
X-LIC-LOCATION:Brazil/East
BEGIN:DAYLIGHT
DTSTART;VALUE=DATE-TIME:20161016T010000
TZNAME:BRST
TZOFFSETFROM:-0300
TZOFFSETTO:-0200
END:DAYLIGHT
END:VTIMEZONE
END:VCALENDAR
