BEGIN:VCALENDAR
VERSION:2.0
PRODID:-//Plone.org//NONSGML plone.app.event//EN
X-WR-TIMEZONE:Brazil/East
BEGIN:VEVENT
SUMMARY:CURSO DE CAPACITAÇÃO DA EQUIPE DO TIME 19.
DTSTART;TZID=Brazil/East;VALUE=DATE-TIME:20250331T100000
DTEND;TZID=Brazil/East;VALUE=DATE-TIME:20250331T130000
DTSTAMP;VALUE=DATE-TIME:20260421T000912Z
UID:0a40c8c811ed43b6b99f057e13225421@www.goiania.go.leg.br
CREATED;VALUE=DATE-TIME:20250326T115257Z
LAST-MODIFIED;VALUE=DATE-TIME:20250410T112517Z
LOCATION:SALA DE REUNIÃO DAS COMISSÕES
URL:https://www.goiania.go.leg.br/sala-de-imprensa/eventos/curso-de-capaci
 tacao-da-equipe-do-time-19-1
END:VEVENT
BEGIN:VTIMEZONE
TZID:Brazil/East
X-LIC-LOCATION:Brazil/East
BEGIN:STANDARD
DTSTART;VALUE=DATE-TIME:20250215T230000
TZNAME:BRT
TZOFFSETFROM:-0200
TZOFFSETTO:-0300
END:STANDARD
END:VTIMEZONE
END:VCALENDAR
