BEGIN:VCALENDAR
VERSION:2.0
PRODID:-//Plone.org//NONSGML plone.app.event//EN
X-WR-TIMEZONE:Brazil/East
BEGIN:VEVENT
SUMMARY:CURSO DA SBFGE - GO.
DTSTART;TZID=Brazil/East;VALUE=DATE-TIME:20180630T080000
DTEND;TZID=Brazil/East;VALUE=DATE-TIME:20180630T200000
DTSTAMP;VALUE=DATE-TIME:20260423T082516Z
UID:f8cff087594341b7866f373d3ce61b3e@www.goiania.go.leg.br
CONTACT:VEREADOR ANSELMO PEREIRA
CREATED;VALUE=DATE-TIME:20180626T134048Z
LAST-MODIFIED;VALUE=DATE-TIME:20180626T134117Z
LOCATION:SALA DE REUNIÃO DAS COMISSÕES
URL:https://www.goiania.go.leg.br/sala-de-imprensa/eventos/curso-da-sbfge-
 go-1
END:VEVENT
BEGIN:VTIMEZONE
TZID:Brazil/East
X-LIC-LOCATION:Brazil/East
BEGIN:STANDARD
DTSTART;VALUE=DATE-TIME:20180217T230000
TZNAME:BRT
TZOFFSETFROM:-0200
TZOFFSETTO:-0300
END:STANDARD
END:VTIMEZONE
END:VCALENDAR
