BEGIN:VCALENDAR
VERSION:2.0
PRODID:-//Plone.org//NONSGML plone.app.event//EN
X-WR-TIMEZONE:Brazil/East
BEGIN:VEVENT
SUMMARY:CULTO RELIGIOSO.
DTSTART;TZID=Brazil/East;VALUE=DATE-TIME:20220419T080000
DTEND;TZID=Brazil/East;VALUE=DATE-TIME:20220419T090000
DTSTAMP;VALUE=DATE-TIME:20260420T224937Z
UID:29f590c33d8a4563bcae4e87b14eefcc@www.goiania.go.leg.br
CONTACT:VEREADORA LÉIA KLEBIA
CREATED;VALUE=DATE-TIME:20220215T120122Z
LAST-MODIFIED;VALUE=DATE-TIME:20220215T120127Z
LOCATION:AUDITÓRIO CARLOS EURICO
URL:https://www.goiania.go.leg.br/sala-de-imprensa/eventos/culto-religioso
 -8
END:VEVENT
BEGIN:VTIMEZONE
TZID:Brazil/East
X-LIC-LOCATION:Brazil/East
BEGIN:STANDARD
DTSTART;VALUE=DATE-TIME:20220219T230000
TZNAME:BRT
TZOFFSETFROM:-0200
TZOFFSETTO:-0300
END:STANDARD
END:VTIMEZONE
END:VCALENDAR
