BEGIN:VCALENDAR
VERSION:2.0
PRODID:-//Plone.org//NONSGML plone.app.event//EN
X-WR-TIMEZONE:Brazil/East
BEGIN:VEVENT
SUMMARY:CULTO EVANGÉLICO.
DTSTART;TZID=Brazil/East;VALUE=DATE-TIME:20261201T080000
DTEND;TZID=Brazil/East;VALUE=DATE-TIME:20261201T090000
DTSTAMP;VALUE=DATE-TIME:20260419T201535Z
UID:ce9152f2f3c443e7a2a22ee0619a07f2@www.goiania.go.leg.br
CONTACT:VEREADORA LÉIA KLEBIA
CREATED;VALUE=DATE-TIME:20260223T152509Z
LAST-MODIFIED;VALUE=DATE-TIME:20260223T152526Z
LOCATION:AUDITÓRIO CARLOS EURICO
URL:https://www.goiania.go.leg.br/sala-de-imprensa/eventos/culto-evangelic
 o-73
END:VEVENT
BEGIN:VTIMEZONE
TZID:Brazil/East
X-LIC-LOCATION:Brazil/East
BEGIN:DAYLIGHT
DTSTART;VALUE=DATE-TIME:20261018T010000
TZNAME:BRST
TZOFFSETFROM:-0300
TZOFFSETTO:-0200
END:DAYLIGHT
END:VTIMEZONE
END:VCALENDAR
