BEGIN:VCALENDAR
VERSION:2.0
PRODID:-//Plone.org//NONSGML plone.app.event//EN
X-WR-TIMEZONE:Brazil/East
BEGIN:VEVENT
SUMMARY:CULTO EVANGÉLICO.
DTSTART;TZID=Brazil/East;VALUE=DATE-TIME:20260804T080000
DTEND;TZID=Brazil/East;VALUE=DATE-TIME:20260804T090000
DTSTAMP;VALUE=DATE-TIME:20260419T185736Z
UID:1c9355d20d9540b6a49c119afa7cb1c3@www.goiania.go.leg.br
CONTACT:VEREADORA LÉIA KLEBIA
CREATED;VALUE=DATE-TIME:20260223T150101Z
LAST-MODIFIED;VALUE=DATE-TIME:20260223T150117Z
LOCATION:AUDITÓRIO CARLOS EURICO
URL:https://www.goiania.go.leg.br/sala-de-imprensa/eventos/culto-evangelic
 o-57
END:VEVENT
BEGIN:VTIMEZONE
TZID:Brazil/East
X-LIC-LOCATION:Brazil/East
BEGIN:STANDARD
DTSTART;VALUE=DATE-TIME:20260221T230000
TZNAME:BRT
TZOFFSETFROM:-0200
TZOFFSETTO:-0300
END:STANDARD
END:VTIMEZONE
END:VCALENDAR
