BEGIN:VCALENDAR
VERSION:2.0
PRODID:-//Plone.org//NONSGML plone.app.event//EN
X-WR-TIMEZONE:Brazil/East
BEGIN:VEVENT
SUMMARY:CULTO EVANGÉLICO.
DTSTART;TZID=Brazil/East;VALUE=DATE-TIME:20250923T080000
DTEND;TZID=Brazil/East;VALUE=DATE-TIME:20250923T090000
DTSTAMP;VALUE=DATE-TIME:20260419T104508Z
UID:c5d80712780344a2a7807b3fba4cd9a0@www.goiania.go.leg.br
CONTACT:VEREADORA LÉIA KLEBIA
CREATED;VALUE=DATE-TIME:20250429T134734Z
LAST-MODIFIED;VALUE=DATE-TIME:20250429T134741Z
LOCATION:AUDITÓRIO CARLOS EURICO
URL:https://www.goiania.go.leg.br/sala-de-imprensa/eventos/culto-evangelic
 o-20
END:VEVENT
BEGIN:VTIMEZONE
TZID:Brazil/East
X-LIC-LOCATION:Brazil/East
BEGIN:STANDARD
DTSTART;VALUE=DATE-TIME:20250215T230000
TZNAME:BRT
TZOFFSETFROM:-0200
TZOFFSETTO:-0300
END:STANDARD
END:VTIMEZONE
END:VCALENDAR
