BEGIN:VCALENDAR
VERSION:2.0
PRODID:-//Plone.org//NONSGML plone.app.event//EN
X-WR-TIMEZONE:Brazil/East
BEGIN:VEVENT
SUMMARY:CULTO EVANGÉLICO.
DTSTART;TZID=Brazil/East;VALUE=DATE-TIME:20250916T080000
DTEND;TZID=Brazil/East;VALUE=DATE-TIME:20250916T090000
DTSTAMP;VALUE=DATE-TIME:20260420T224946Z
UID:6cab4c9d53da4c2ea539225053711a61@www.goiania.go.leg.br
CONTACT:VEREADORA LÉIA KLEBIA
CREATED;VALUE=DATE-TIME:20250429T134645Z
LAST-MODIFIED;VALUE=DATE-TIME:20250429T134654Z
LOCATION:AUDITÓRIO CARLOS EURICO
URL:https://www.goiania.go.leg.br/sala-de-imprensa/eventos/culto-evangelic
 o-19
END:VEVENT
BEGIN:VTIMEZONE
TZID:Brazil/East
X-LIC-LOCATION:Brazil/East
BEGIN:STANDARD
DTSTART;VALUE=DATE-TIME:20250215T230000
TZNAME:BRT
TZOFFSETFROM:-0200
TZOFFSETTO:-0300
END:STANDARD
END:VTIMEZONE
END:VCALENDAR
