BEGIN:VCALENDAR
VERSION:2.0
PRODID:-//Plone.org//NONSGML plone.app.event//EN
X-WR-TIMEZONE:Brazil/East
BEGIN:VEVENT
SUMMARY:CULTO ECUMÊNICO EM RAZÃO DA POSSE DO SENHOR RODRIGO RIZZO COMO V
 EREADOR.
DTSTART;TZID=Brazil/East;VALUE=DATE-TIME:20251001T190000
DTEND;TZID=Brazil/East;VALUE=DATE-TIME:20251001T220000
DTSTAMP;VALUE=DATE-TIME:20260420T201902Z
UID:3b9ac5eec766481d92e1f73928201e95@www.goiania.go.leg.br
CONTACT:VEREADOR MICHEL MAGUL
CREATED;VALUE=DATE-TIME:20250924T212152Z
LAST-MODIFIED;VALUE=DATE-TIME:20250924T212254Z
LOCATION:AUDITÓRIO JAIME CÂMARA
URL:https://www.goiania.go.leg.br/sala-de-imprensa/eventos/culto-ecumenico
 em-razao-da-posse-do-senhor-rodrigo-rizzo-como-vereador
END:VEVENT
BEGIN:VTIMEZONE
TZID:Brazil/East
X-LIC-LOCATION:Brazil/East
BEGIN:STANDARD
DTSTART;VALUE=DATE-TIME:20250215T230000
TZNAME:BRT
TZOFFSETFROM:-0200
TZOFFSETTO:-0300
END:STANDARD
END:VTIMEZONE
END:VCALENDAR
