BEGIN:VCALENDAR
VERSION:2.0
PRODID:-//Plone.org//NONSGML plone.app.event//EN
X-WR-TIMEZONE:Brazil/East
BEGIN:VEVENT
SUMMARY:CULTO ECUMÊNICO E AÇÃO BENEFICIENTE EM PROL DO SENHOR CLEIBSON 
 LIMA DOS SANTOS.
DTSTART;TZID=Brazil/East;VALUE=DATE-TIME:20181214T080000
DTEND;TZID=Brazil/East;VALUE=DATE-TIME:20181214T120000
DTSTAMP;VALUE=DATE-TIME:20260420T201825Z
UID:3e67a1469aaf49a289d6a0d37ea41078@www.goiania.go.leg.br
CONTACT:GCM ROMÁRIO POLICARPO
CREATED;VALUE=DATE-TIME:20181207T122749Z
LAST-MODIFIED;VALUE=DATE-TIME:20181207T122803Z
LOCATION:AUDITÓRIO JAIME CÂMARA
URL:https://www.goiania.go.leg.br/sala-de-imprensa/eventos/culto-ecumenico
 -e-acao-beneficiente-em-prol-do-senhor-cleibson-lima-dos-santos
END:VEVENT
BEGIN:VTIMEZONE
TZID:Brazil/East
X-LIC-LOCATION:Brazil/East
BEGIN:DAYLIGHT
DTSTART;VALUE=DATE-TIME:20181021T010000
TZNAME:BRST
TZOFFSETFROM:-0300
TZOFFSETTO:-0200
END:DAYLIGHT
END:VTIMEZONE
END:VCALENDAR
