BEGIN:VCALENDAR
VERSION:2.0
PRODID:-//Plone.org//NONSGML plone.app.event//EN
X-WR-TIMEZONE:Brazil/East
BEGIN:VEVENT
SUMMARY:CULTO DOS JOVENS DA IGREJA ADVENTISTA DA PROMESSA.
DTSTART;TZID=Brazil/East;VALUE=DATE-TIME:20160917T130000
DTEND;TZID=Brazil/East;VALUE=DATE-TIME:20160917T220000
DTSTAMP;VALUE=DATE-TIME:20260420T201820Z
UID:629f63f7827244be9d0e846fa62c6785@www.goiania.go.leg.br
CONTACT:VEREADOR DIVINO RODRIGUES
CREATED;VALUE=DATE-TIME:20171208T111312Z
LAST-MODIFIED;VALUE=DATE-TIME:20171208T112924Z
LOCATION:AUDITÓRIO JAIME CÂMARA
URL:https://www.goiania.go.leg.br/sala-de-imprensa/eventos/culto-dos-joven
 s-da-igreja-adventista-da-promessa
END:VEVENT
BEGIN:VTIMEZONE
TZID:Brazil/East
X-LIC-LOCATION:Brazil/East
BEGIN:STANDARD
DTSTART;VALUE=DATE-TIME:20160220T230000
TZNAME:BRT
TZOFFSETFROM:-0200
TZOFFSETTO:-0300
END:STANDARD
END:VTIMEZONE
END:VCALENDAR
