BEGIN:VCALENDAR
VERSION:2.0
PRODID:-//Plone.org//NONSGML plone.app.event//EN
X-WR-TIMEZONE:Brazil/East
BEGIN:VEVENT
SUMMARY:CONVITE PARA HASTEAMENTO DA BANDEIRA EM COMEMORAÇÃO A SEMANA DA 
 PÁTRIA\, COM APRESENTAÇÃO DA BANDA DA GUARDA CIVIL METROPOLITANA.
DTSTART;TZID=Brazil/East;VALUE=DATE-TIME:20170905T083000
DTEND;TZID=Brazil/East;VALUE=DATE-TIME:20170905T120000
DTSTAMP;VALUE=DATE-TIME:20260420T190319Z
UID:9c186d54f0164a2081f14800ef7f2d10@www.goiania.go.leg.br
CONTACT:VEREADOR ANDREY AZEREDO
CREATED;VALUE=DATE-TIME:20171208T111313Z
LAST-MODIFIED;VALUE=DATE-TIME:20171208T112940Z
LOCATION:HALL DE ENTRADA
URL:https://www.goiania.go.leg.br/sala-de-imprensa/eventos/convite-para-ha
 steamento-da-bandeira-em-comemoracao-a-semana-da-patria-com-apresentacao-d
 a-banda-da-guarda-civil-metropolitana
END:VEVENT
BEGIN:VTIMEZONE
TZID:Brazil/East
X-LIC-LOCATION:Brazil/East
BEGIN:STANDARD
DTSTART;VALUE=DATE-TIME:20170218T230000
TZNAME:BRT
TZOFFSETFROM:-0200
TZOFFSETTO:-0300
END:STANDARD
END:VTIMEZONE
END:VCALENDAR
