BEGIN:VCALENDAR
VERSION:2.0
PRODID:-//Plone.org//NONSGML plone.app.event//EN
X-WR-TIMEZONE:Brazil/East
BEGIN:VEVENT
SUMMARY:CONVENÇÃO PARTIDÁRIA DO PRR (PARTIDO REPUBLICANO PROGRESSISTA).
DTSTART;TZID=Brazil/East;VALUE=DATE-TIME:20180805T080000
DTEND;TZID=Brazil/East;VALUE=DATE-TIME:20180805T180000
DTSTAMP;VALUE=DATE-TIME:20260420T185509Z
UID:a0262b3692ea4aa99c168ed216c27fa7@www.goiania.go.leg.br
CONTACT:VEREADOR JORGE KAJURU
CREATED;VALUE=DATE-TIME:20180607T142559Z
LAST-MODIFIED;VALUE=DATE-TIME:20180607T142614Z
LOCATION:AUDITÓRIO CARLOS EURICO
URL:https://www.goiania.go.leg.br/sala-de-imprensa/eventos/convencao-parti
 daria-do-prr-partido-republicano-progressista
END:VEVENT
BEGIN:VTIMEZONE
TZID:Brazil/East
X-LIC-LOCATION:Brazil/East
BEGIN:STANDARD
DTSTART;VALUE=DATE-TIME:20180217T230000
TZNAME:BRT
TZOFFSETFROM:-0200
TZOFFSETTO:-0300
END:STANDARD
END:VTIMEZONE
END:VCALENDAR
