BEGIN:VCALENDAR
VERSION:2.0
PRODID:-//Plone.org//NONSGML plone.app.event//EN
X-WR-TIMEZONE:Brazil/East
BEGIN:VEVENT
SUMMARY:CONGRESSO ESTADUAL DO PSB.
DTSTART;TZID=Brazil/East;VALUE=DATE-TIME:20220327T080000
DTEND;TZID=Brazil/East;VALUE=DATE-TIME:20220327T120000
DTSTAMP;VALUE=DATE-TIME:20260420T184926Z
UID:9a187816b5df458b93b426c6d3739463@www.goiania.go.leg.br
CONTACT:VEREADOR PEDRO AZULÃO JR.
CREATED;VALUE=DATE-TIME:20220308T145836Z
LAST-MODIFIED;VALUE=DATE-TIME:20220323T141654Z
LOCATION:AUDITÓRIO CARLOS EURICO
URL:https://www.goiania.go.leg.br/sala-de-imprensa/eventos/congresso-estad
 ual-do-psb
END:VEVENT
BEGIN:VTIMEZONE
TZID:Brazil/East
X-LIC-LOCATION:Brazil/East
BEGIN:STANDARD
DTSTART;VALUE=DATE-TIME:20220219T230000
TZNAME:BRT
TZOFFSETFROM:-0200
TZOFFSETTO:-0300
END:STANDARD
END:VTIMEZONE
END:VCALENDAR
