BEGIN:VCALENDAR
VERSION:2.0
PRODID:-//Plone.org//NONSGML plone.app.event//EN
X-WR-TIMEZONE:Brazil/East
BEGIN:VEVENT
SUMMARY:CONGRESSO DE MULHERES MISSIONÁRIAS PROMOVIDO PELOS MEMBROS DA IGR
 EJA ADVENTISTA DO 7º DIA.
DTSTART;TZID=Brazil/East;VALUE=DATE-TIME:20250607T070000
DTEND;TZID=Brazil/East;VALUE=DATE-TIME:20250607T180000
DTSTAMP;VALUE=DATE-TIME:20260419T215437Z
UID:848fa931bde0444fabe42ee3fcfb9e67@www.goiania.go.leg.br
CONTACT:VEREADOR CABO SENNA
CREATED;VALUE=DATE-TIME:20250225T125001Z
LAST-MODIFIED;VALUE=DATE-TIME:20250225T125021Z
LOCATION:AUDITÓRIO JAIME CÂMARA
URL:https://www.goiania.go.leg.br/sala-de-imprensa/eventos/congresso-de-mu
 lheres-missionarias-promovido-pelos-membros-da-igreja-adventista-do-7o-dia
END:VEVENT
BEGIN:VTIMEZONE
TZID:Brazil/East
X-LIC-LOCATION:Brazil/East
BEGIN:STANDARD
DTSTART;VALUE=DATE-TIME:20250215T230000
TZNAME:BRT
TZOFFSETFROM:-0200
TZOFFSETTO:-0300
END:STANDARD
END:VTIMEZONE
END:VCALENDAR
