BEGIN:VCALENDAR
VERSION:2.0
PRODID:-//Plone.org//NONSGML plone.app.event//EN
X-WR-TIMEZONE:Brazil/East
BEGIN:VEVENT
SUMMARY:CONGRESSO DE JOVENS DA IASD BAIRRO GOIÁ.
DTSTART;TZID=Brazil/East;VALUE=DATE-TIME:20171007T073000
DTEND;TZID=Brazil/East;VALUE=DATE-TIME:20171007T180000
DTSTAMP;VALUE=DATE-TIME:20260420T185429Z
UID:b832edc7ed1342e49e6d145571a51c07@www.goiania.go.leg.br
CONTACT:VEREADOR CABO SENNA
CREATED;VALUE=DATE-TIME:20171208T111313Z
LAST-MODIFIED;VALUE=DATE-TIME:20171208T112933Z
LOCATION:AUDITÓRIO JAIME CÂMARA
URL:https://www.goiania.go.leg.br/sala-de-imprensa/eventos/congresso-de-jo
 vens-da-iasd-bairro-goia
END:VEVENT
BEGIN:VTIMEZONE
TZID:Brazil/East
X-LIC-LOCATION:Brazil/East
BEGIN:STANDARD
DTSTART;VALUE=DATE-TIME:20170218T230000
TZNAME:BRT
TZOFFSETFROM:-0200
TZOFFSETTO:-0300
END:STANDARD
END:VTIMEZONE
END:VCALENDAR
